BEGIN:VCALENDAR
VERSION:2.0
PRODID:-//Sabre//Sabre VObject 4.5.8//EN
CALSCALE:GREGORIAN
BEGIN:VEVENT
UID:sabre-vobject-d46ea36e-f82c-4d51-8afb-004e71fdfc48
DTSTAMP:20260422T202640Z
SUMMARY:Stained Glass Class
DESCRIPTION:Enjoy this Art Center class that will teach out the basics of s
 tained glass art!\n
X-ALT-DESC:FMTTYPE=text/html:<!DOCTYPE HTML PUBLIC "-//W3C//DTD HTML 3.2//E
 N"><HTML><p>Enjoy this Art Center class that will teach out the basics of 
 stained glass art!</p>\n</HTML>
CREATED;TZID=Europe/Oslo:20260203T164038
URL;VALUE=URI:https://italy.armymwr.com/calendar/event
DTSTART;TZID=Europe/Oslo:20260206T090000
DTEND;TZID=Europe/Oslo:20260206T120000
SEQUENCE:0
END:VEVENT
BEGIN:VEVENT
UID:sabre-vobject-bc818f28-8bef-4cae-982a-010aec6dc582
DTSTAMP:20260422T202640Z
SUMMARY:Stained Glass Class
DESCRIPTION:Enjoy this Art Center class that will teach out the basics of s
 tained glass art!\n
X-ALT-DESC:FMTTYPE=text/html:<!DOCTYPE HTML PUBLIC "-//W3C//DTD HTML 3.2//E
 N"><HTML><p>Enjoy this Art Center class that will teach out the basics of 
 stained glass art!</p>\n</HTML>
CREATED;TZID=Europe/Oslo:20260203T164038
URL;VALUE=URI:https://italy.armymwr.com/calendar/event
DTSTART;TZID=Europe/Oslo:20260221T100000
DTEND;TZID=Europe/Oslo:20260221T130000
SEQUENCE:1
END:VEVENT
BEGIN:VEVENT
UID:sabre-vobject-7ce8c290-42c2-47f5-a082-9fbc7a3c7ad5
DTSTAMP:20260422T202640Z
SUMMARY:Stained Glass Class
DESCRIPTION:Enjoy this Art Center class that will teach out the basics of s
 tained glass art!\n
X-ALT-DESC:FMTTYPE=text/html:<!DOCTYPE HTML PUBLIC "-//W3C//DTD HTML 3.2//E
 N"><HTML><p>Enjoy this Art Center class that will teach out the basics of 
 stained glass art!</p>\n</HTML>
CREATED;TZID=Europe/Oslo:20260203T164038
URL;VALUE=URI:https://italy.armymwr.com/calendar/event
DTSTART;TZID=Europe/Oslo:20260307T100000
DTEND;TZID=Europe/Oslo:20260307T130000
SEQUENCE:2
END:VEVENT
BEGIN:VEVENT
UID:sabre-vobject-85e6ded8-5521-4578-8e1c-d715f87010ad
DTSTAMP:20260422T202640Z
SUMMARY:Stained Glass Class
DESCRIPTION:Enjoy this Art Center class that will teach out the basics of s
 tained glass art!\n
X-ALT-DESC:FMTTYPE=text/html:<!DOCTYPE HTML PUBLIC "-//W3C//DTD HTML 3.2//E
 N"><HTML><p>Enjoy this Art Center class that will teach out the basics of 
 stained glass art!</p>\n</HTML>
CREATED;TZID=Europe/Oslo:20260203T164038
URL;VALUE=URI:https://italy.armymwr.com/calendar/event
DTSTART;TZID=Europe/Oslo:20260320T090000
DTEND;TZID=Europe/Oslo:20260320T120000
SEQUENCE:3
END:VEVENT
END:VCALENDAR
