BEGIN:VCALENDAR
VERSION:2.0
PRODID:-//Sabre//Sabre VObject 4.5.8//EN
CALSCALE:GREGORIAN
BEGIN:VEVENT
UID:sabre-vobject-efa17582-0b3a-41e5-b683-84fc269bf861
DTSTAMP:20260422T054914Z
SUMMARY:Midnight Basketball at the Teen Center
DESCRIPTION:Let the games begin!\n
X-ALT-DESC:FMTTYPE=text/html:<!DOCTYPE HTML PUBLIC "-//W3C//DTD HTML 3.2//E
 N"><HTML><p>Let the games begin!</p>\n</HTML>
CREATED;TZID=Europe/Oslo:20200124T110150
URL;VALUE=URI:https://italy.armymwr.com/calendar/event
DTSTART;TZID=Europe/Oslo:20200320T190000
DTEND;TZID=Europe/Oslo:20200320T235500
SEQUENCE:0
END:VEVENT
END:VCALENDAR
