BEGIN:VCALENDAR
VERSION:2.0
PRODID:-//Sabre//Sabre VObject 4.5.8//EN
CALSCALE:GREGORIAN
BEGIN:VEVENT
UID:sabre-vobject-2ef7de19-e747-4a21-9b88-1d7d8c8a5aad
DTSTAMP:20260424T144403Z
SUMMARY:Ski/Snowboard Trip: Paganella
DESCRIPTION:Paganella accommodates skiers and boarders of all skill levels!
 \n
X-ALT-DESC:FMTTYPE=text/html:<!DOCTYPE HTML PUBLIC "-//W3C//DTD HTML 3.2//E
 N"><HTML><p>Paganella accommodates skiers and boarders of all skill levels
 !</p>\n</HTML>
CREATED;TZID=Europe/Oslo:20191031T170224
URL;VALUE=URI:https://italy.armymwr.com/calendar/event
DTSTART;TZID=Europe/Oslo:20200208T050000
DTEND;TZID=Europe/Oslo:20200208T190000
SEQUENCE:0
END:VEVENT
END:VCALENDAR
