BEGIN:VCALENDAR
VERSION:2.0
PRODID:-//Sabre//Sabre VObject 4.5.8//EN
CALSCALE:GREGORIAN
BEGIN:VEVENT
UID:sabre-vobject-d17710a3-43bd-464e-8f09-adab9abc465c
DTSTAMP:20260425T000423Z
SUMMARY:Ski/Snowboard Trip: San Pellegrino
DESCRIPTION:Join Outdoor Recreation as we visit one of our favorite ski res
 orts!\n
X-ALT-DESC:FMTTYPE=text/html:<!DOCTYPE HTML PUBLIC "-//W3C//DTD HTML 3.2//E
 N"><HTML><p>Join Outdoor Recreation as we visit one of our favorite ski re
 sorts!</p>\n</HTML>
CREATED;TZID=Europe/Oslo:20191031T165516
URL;VALUE=URI:https://italy.armymwr.com/calendar/event
DTSTART;TZID=Europe/Oslo:20200111T060000
DTEND;TZID=Europe/Oslo:20200111T200000
SEQUENCE:0
END:VEVENT
END:VCALENDAR
