BEGIN:VCALENDAR
VERSION:2.0
PRODID:-//Sabre//Sabre VObject 4.5.8//EN
CALSCALE:GREGORIAN
BEGIN:VEVENT
UID:sabre-vobject-a45e4d58-923d-497c-9ca4-ffd0766b8fe3
DTSTAMP:20260424T050903Z
SUMMARY:President's Day Bowling
DESCRIPTION:Spend quality time with friends and family at the Arena!\n
X-ALT-DESC:FMTTYPE=text/html:<!DOCTYPE HTML PUBLIC "-//W3C//DTD HTML 3.2//E
 N"><HTML><p>Spend quality time with friends and family at the Arena!</p>\n
 </HTML>
CREATED;TZID=Europe/Oslo:20200122T141950
URL;VALUE=URI:https://italy.armymwr.com/calendar/event
DTSTART;TZID=Europe/Oslo:20200217T130000
DTEND;TZID=Europe/Oslo:20200217T210000
SEQUENCE:0
END:VEVENT
END:VCALENDAR
