BEGIN:VCALENDAR
VERSION:2.0
PRODID:-//Sabre//Sabre VObject 4.5.8//EN
CALSCALE:GREGORIAN
BEGIN:VEVENT
UID:sabre-vobject-19a6c11c-ce90-4961-a9de-8e35a9682e07
DTSTAMP:20260424T145056Z
SUMMARY:Valentine's Day at the Lion's Den
DESCRIPTION:Come join us with that special someone in your life at the Lion
 &#39\;s Den!\n
X-ALT-DESC:FMTTYPE=text/html:<!DOCTYPE HTML PUBLIC "-//W3C//DTD HTML 3.2//E
 N"><HTML><p>Come join us with that special someone in your life at the Lio
 n&#39\;s Den!</p>\n</HTML>
CREATED;TZID=Europe/Oslo:20200122T141426
URL;VALUE=URI:https://italy.armymwr.com/calendar/event
DTSTART;TZID=Europe/Oslo:20200214T170000
DTEND;TZID=Europe/Oslo:20200214T220000
SEQUENCE:0
END:VEVENT
END:VCALENDAR
