BEGIN:VCALENDAR
VERSION:2.0
PRODID:-//Sabre//Sabre VObject 4.5.8//EN
CALSCALE:GREGORIAN
BEGIN:VEVENT
UID:sabre-vobject-70a90f48-a5a7-4cad-b366-567e9f1802e3
DTSTAMP:20260422T133352Z
SUMMARY:Auditions for "Seussical\, JR."
DESCRIPTION:Here&#39\;s a chance for youth to get involved in theatre!\n
X-ALT-DESC:FMTTYPE=text/html:<!DOCTYPE HTML PUBLIC "-//W3C//DTD HTML 3.2//E
 N"><HTML><p>Here&#39\;s a chance for youth to get involved in theatre!</p>
 \n</HTML>
CREATED;TZID=Europe/Oslo:20200302T112422
URL;VALUE=URI:https://italy.armymwr.com/calendar/event
DTSTART;TZID=Europe/Oslo:20200309T160000
DTEND;TZID=Europe/Oslo:20200309T170000
SEQUENCE:0
END:VEVENT
BEGIN:VEVENT
UID:sabre-vobject-5ec4dcd4-8f0a-4229-9f5e-8953221bc378
DTSTAMP:20260422T133352Z
SUMMARY:Auditions for "Seussical\, JR."
DESCRIPTION:Here&#39\;s a chance for youth to get involved in theatre!\n
X-ALT-DESC:FMTTYPE=text/html:<!DOCTYPE HTML PUBLIC "-//W3C//DTD HTML 3.2//E
 N"><HTML><p>Here&#39\;s a chance for youth to get involved in theatre!</p>
 \n</HTML>
CREATED;TZID=Europe/Oslo:20200302T112422
URL;VALUE=URI:https://italy.armymwr.com/calendar/event
DTSTART;TZID=Europe/Oslo:20200310T160000
DTEND;TZID=Europe/Oslo:20200310T170000
SEQUENCE:1
END:VEVENT
BEGIN:VEVENT
UID:sabre-vobject-020f1bc8-61d7-4007-9840-d6b4a3d5b878
DTSTAMP:20260422T133352Z
SUMMARY:Auditions for "Seussical\, JR."
DESCRIPTION:Here&#39\;s a chance for youth to get involved in theatre!\n
X-ALT-DESC:FMTTYPE=text/html:<!DOCTYPE HTML PUBLIC "-//W3C//DTD HTML 3.2//E
 N"><HTML><p>Here&#39\;s a chance for youth to get involved in theatre!</p>
 \n</HTML>
CREATED;TZID=Europe/Oslo:20200302T112422
URL;VALUE=URI:https://italy.armymwr.com/calendar/event
DTSTART;TZID=Europe/Oslo:20200311T160000
DTEND;TZID=Europe/Oslo:20200311T170000
SEQUENCE:2
END:VEVENT
END:VCALENDAR
