BEGIN:VCALENDAR
VERSION:2.0
PRODID:-//Sabre//Sabre VObject 4.5.8//EN
CALSCALE:GREGORIAN
BEGIN:VEVENT
UID:sabre-vobject-56cd9da6-090b-421c-8edc-57279b2abc0a
DTSTAMP:20260422T192052Z
SUMMARY:Leap Day Power Pump!
DESCRIPTION:Enjoy an extra day this year to Power Pump it up!\n
X-ALT-DESC:FMTTYPE=text/html:<!DOCTYPE HTML PUBLIC "-//W3C//DTD HTML 3.2//E
 N"><HTML><p>Enjoy an extra day this year to Power Pump it up!</p>\n</HTML>
CREATED;TZID=Europe/Oslo:20200127T141156
URL;VALUE=URI:https://italy.armymwr.com/calendar/event
DTSTART;TZID=Europe/Oslo:20200229T090000
DTEND;TZID=Europe/Oslo:20200229T100000
SEQUENCE:0
END:VEVENT
END:VCALENDAR
