BEGIN:VCALENDAR
VERSION:2.0
PRODID:-//Sabre//Sabre VObject 4.5.8//EN
CALSCALE:GREGORIAN
BEGIN:VEVENT
UID:sabre-vobject-f7b42622-0466-4e39-bf14-402b114d78e4
DTSTAMP:20260423T024111Z
SUMMARY:SAC No School Day: Movie Theater Trip
DESCRIPTION:Let&#39\;s go bowling\, all 1st-5th graders! SAC is headed to t
 he movies!\n
X-ALT-DESC:FMTTYPE=text/html:<!DOCTYPE HTML PUBLIC "-//W3C//DTD HTML 3.2//E
 N"><HTML><p>Let&#39\;s go bowling\, all 1st-5th graders! SAC is headed to 
 the movies!</p>\n</HTML>
CREATED;TZID=Europe/Oslo:20200109T102634
URL;VALUE=URI:https://italy.armymwr.com/calendar/event
DTSTART;TZID=Europe/Oslo:20200313T130000
DTEND;TZID=Europe/Oslo:20200313T163000
SEQUENCE:0
END:VEVENT
END:VCALENDAR
