BEGIN:VCALENDAR
VERSION:2.0
PRODID:-//Sabre//Sabre VObject 4.5.8//EN
CALSCALE:GREGORIAN
BEGIN:VEVENT
UID:sabre-vobject-05f981ee-a114-43b4-859a-20464616378e
DTSTAMP:20260423T160235Z
SUMMARY:Family Movie Bowling Night
DESCRIPTION:Enjoy bowling with a family-friendly movie on the overhead lane
  screens at the Arena!\n
X-ALT-DESC:FMTTYPE=text/html:<!DOCTYPE HTML PUBLIC "-//W3C//DTD HTML 3.2//E
 N"><HTML><p>Enjoy bowling with a family-friendly movie on the overhead lan
 e screens at the Arena!</p>\n</HTML>
CREATED;TZID=Europe/Oslo:20260224T164525
URL;VALUE=URI:https://italy.armymwr.com/calendar/event
DTSTART;TZID=Europe/Oslo:20260105T180000
DTEND;TZID=Europe/Oslo:20260131T200000
SEQUENCE:0
END:VEVENT
END:VCALENDAR
