BEGIN:VCALENDAR
VERSION:2.0
PRODID:-//Sabre//Sabre VObject 4.5.8//EN
CALSCALE:GREGORIAN
BEGIN:VEVENT
UID:sabre-vobject-71378da2-19ea-45e6-b3ff-cfd968123df5
DTSTAMP:20260425T000516Z
SUMMARY:SAC Glow Party (during Parents' Night Out)
DESCRIPTION:Join SAC&#39\;s Glow Party during Parents Night Out!\n
X-ALT-DESC:FMTTYPE=text/html:<!DOCTYPE HTML PUBLIC "-//W3C//DTD HTML 3.2//E
 N"><HTML><p>Join SAC&#39\;s Glow Party during Parents Night Out!</p>\n</HT
 ML>
CREATED;TZID=Europe/Oslo:20191212T124056
URL;VALUE=URI:https://italy.armymwr.com/calendar/event
DTSTART;TZID=Europe/Oslo:20200110T183000
DTEND;TZID=Europe/Oslo:20200110T233000
SEQUENCE:0
END:VEVENT
END:VCALENDAR
