BEGIN:VCALENDAR
VERSION:2.0
PRODID:-//Sabre//Sabre VObject 4.5.8//EN
CALSCALE:GREGORIAN
BEGIN:VEVENT
UID:sabre-vobject-18ee572c-707e-4918-badb-3ac63a6a4bb3
DTSTAMP:20260422T111429Z
SUMMARY:AFE Pro Blitz: Tampa Bay Buccaneer Cheerleaders!
DESCRIPTION:Join us as we welcome the Tampa Bay Buccaneer Cheerleaders!\n
X-ALT-DESC:FMTTYPE=text/html:<!DOCTYPE HTML PUBLIC "-//W3C//DTD HTML 3.2//E
 N"><HTML><p>Join us as we welcome the Tampa Bay Buccaneer Cheerleaders!</p
 >\n</HTML>
CREATED;TZID=Europe/Oslo:20250123T103124
URL;VALUE=URI:https://italy.armymwr.com/calendar/event
DTSTART;TZID=Europe/Oslo:20250205T160000
DTEND;TZID=Europe/Oslo:20250205T190000
SEQUENCE:0
END:VEVENT
END:VCALENDAR
