BEGIN:VCALENDAR
VERSION:2.0
PRODID:-//Sabre//Sabre VObject 4.5.8//EN
CALSCALE:GREGORIAN
BEGIN:VEVENT
UID:sabre-vobject-62e3fe12-78a7-4889-a9e8-52c94ae4020d
DTSTAMP:20260424T112101Z
SUMMARY:Tattoo Expo in Milan
DESCRIPTION:Head with us to this awesome tattoo expo in an awesome city!\n
X-ALT-DESC:FMTTYPE=text/html:<!DOCTYPE HTML PUBLIC "-//W3C//DTD HTML 3.2//E
 N"><HTML><p>Head with us to this awesome tattoo expo in an awesome city!</
 p>\n</HTML>
CREATED;TZID=Europe/Oslo:20200109T140814
URL;VALUE=URI:https://italy.armymwr.com/calendar/event
DTSTART;TZID=Europe/Oslo:20200208T103000
DTEND;TZID=Europe/Oslo:20200208T233000
SEQUENCE:0
END:VEVENT
END:VCALENDAR
