BEGIN:VCALENDAR
VERSION:2.0
PRODID:-//Sabre//Sabre VObject 4.5.8//EN
CALSCALE:GREGORIAN
BEGIN:VEVENT
UID:sabre-vobject-3d97abc6-529e-4e68-a2e6-3e9bfb4d1394
DTSTAMP:20260425T121253Z
SUMMARY:CANCELLED: Hourly Bowling
DESCRIPTION:Spare some time and enjoy the Arena&#39\;s pay-by-the-hour bowl
 ing!\n
X-ALT-DESC:FMTTYPE=text/html:<!DOCTYPE HTML PUBLIC "-//W3C//DTD HTML 3.2//E
 N"><HTML><p>Spare some time and enjoy the Arena&#39\;s pay-by-the-hour bow
 ling!</p>\n</HTML>
CREATED;TZID=Europe/Oslo:20200602T111901
URL;VALUE=URI:https://italy.armymwr.com/calendar/event
DTSTART;TZID=Europe/Oslo:20190101T110000
DTEND;TZID=Europe/Oslo:20190101T230000
SEQUENCE:0
END:VEVENT
END:VCALENDAR
