BEGIN:VCALENDAR
VERSION:2.0
PRODID:-//Sabre//Sabre VObject 4.5.8//EN
CALSCALE:GREGORIAN
BEGIN:VEVENT
UID:sabre-vobject-63897e13-2fe0-4bdc-a6d7-dde2a84aa4b9
DTSTAMP:20260425T115828Z
SUMMARY:CANCELLED: Evening Bowling
DESCRIPTION:Enjoy some evening bowling at the Arena!\n
X-ALT-DESC:FMTTYPE=text/html:<!DOCTYPE HTML PUBLIC "-//W3C//DTD HTML 3.2//E
 N"><HTML><p>Enjoy some evening bowling at the Arena!</p>\n</HTML>
CREATED;TZID=Europe/Oslo:20200602T112046
URL;VALUE=URI:https://italy.armymwr.com/calendar/event
DTSTART;TZID=Europe/Oslo:20190101T170000
DTEND;TZID=Europe/Oslo:20190101T230000
SEQUENCE:0
END:VEVENT
END:VCALENDAR
