BEGIN:VCALENDAR
VERSION:2.0
PRODID:-//Sabre//Sabre VObject 4.5.8//EN
CALSCALE:GREGORIAN
BEGIN:VEVENT
UID:sabre-vobject-f75dcbe0-1a4a-4a63-a299-994247bf7c44
DTSTAMP:20260425T220104Z
SUMMARY:Financial Training Series (Ederle & Del Din)
DESCRIPTION:Join this financial training series class!\n
X-ALT-DESC:FMTTYPE=text/html:<!DOCTYPE HTML PUBLIC "-//W3C//DTD HTML 3.2//E
 N"><HTML><p>Join this financial training series class!</p>\n</HTML>
CREATED;TZID=Europe/Oslo:20191025T163633
URL;VALUE=URI:https://italy.armymwr.com/calendar/event
DTSTART;TZID=Europe/Oslo:20191030T113000
DTEND;TZID=Europe/Oslo:20191030T123000
SEQUENCE:0
END:VEVENT
BEGIN:VEVENT
UID:sabre-vobject-cbb3ed45-11a2-4753-9d1a-7209b031092e
DTSTAMP:20260425T220104Z
SUMMARY:Financial Training Series (Ederle & Del Din)
DESCRIPTION:Join this financial training series class!\n
X-ALT-DESC:FMTTYPE=text/html:<!DOCTYPE HTML PUBLIC "-//W3C//DTD HTML 3.2//E
 N"><HTML><p>Join this financial training series class!</p>\n</HTML>
CREATED;TZID=Europe/Oslo:20191025T163633
URL;VALUE=URI:https://italy.armymwr.com/calendar/event
DTSTART;TZID=Europe/Oslo:20191029T113000
DTEND;TZID=Europe/Oslo:20191029T123000
SEQUENCE:1
END:VEVENT
END:VCALENDAR
