BEGIN:VCALENDAR
VERSION:2.0
PRODID:-//Sabre//Sabre VObject 4.5.8//EN
CALSCALE:GREGORIAN
BEGIN:VEVENT
UID:sabre-vobject-be6289b0-a341-464c-b86e-841bdb7cd115
DTSTAMP:20260426T012947Z
SUMMARY:Bringing Baby Home
DESCRIPTION:Learn what to expect as you welcome your new baby into the worl
 d.\n
X-ALT-DESC:FMTTYPE=text/html:<!DOCTYPE HTML PUBLIC "-//W3C//DTD HTML 3.2//E
 N"><HTML><p>Learn what to expect as you welcome your new baby into the wor
 ld.</p>\n</HTML>
CREATED;TZID=Europe/Oslo:20191206T133550
URL;VALUE=URI:https://italy.armymwr.com/calendar/event
DTSTART;TZID=Europe/Oslo:20191212T153000
DTEND;TZID=Europe/Oslo:20191212T173000
SEQUENCE:0
END:VEVENT
END:VCALENDAR
