BEGIN:VCALENDAR
VERSION:2.0
PRODID:-//Sabre//Sabre VObject 4.5.8//EN
CALSCALE:GREGORIAN
BEGIN:VEVENT
UID:sabre-vobject-91738590-2f1c-443a-b5ff-892244d96ec3
DTSTAMP:20260421T161005Z
SUMMARY:Baby Wearing Wrap-Up
DESCRIPTION:Find out which carrier is best for you!\n
X-ALT-DESC:FMTTYPE=text/html:<!DOCTYPE HTML PUBLIC "-//W3C//DTD HTML 3.2//E
 N"><HTML><p>Find out which carrier is best for you!</p>\n</HTML>
CREATED;TZID=Europe/Oslo:20200107T123422
URL;VALUE=URI:https://italy.armymwr.com/calendar/event
DTSTART;TZID=Europe/Oslo:20200127T103000
DTEND;TZID=Europe/Oslo:20200127T113000
SEQUENCE:0
END:VEVENT
END:VCALENDAR
