BEGIN:VCALENDAR
VERSION:2.0
PRODID:-//Sabre//Sabre VObject 4.5.8//EN
CALSCALE:GREGORIAN
BEGIN:VEVENT
UID:sabre-vobject-9ba4f1ce-2007-4f59-a034-f87764c02176
DTSTAMP:20260422T162611Z
SUMMARY:EFMP Parent Support Group
DESCRIPTION:Join this community for support and resources!\n
X-ALT-DESC:FMTTYPE=text/html:<!DOCTYPE HTML PUBLIC "-//W3C//DTD HTML 3.2//E
 N"><HTML><p>Join this community for support and resources!</p>\n</HTML>
CREATED;TZID=Europe/Oslo:20190829T142326
URL;VALUE=URI:https://italy.armymwr.com/calendar/event
DTSTART;TZID=Europe/Oslo:20190904T130000
DTEND;TZID=Europe/Oslo:20190904T140000
SEQUENCE:0
END:VEVENT
BEGIN:VEVENT
UID:sabre-vobject-5991ec27-648e-4aed-bf41-14aba719ff76
DTSTAMP:20260422T162611Z
SUMMARY:EFMP Parent Support Group
DESCRIPTION:Join this community for support and resources!\n
X-ALT-DESC:FMTTYPE=text/html:<!DOCTYPE HTML PUBLIC "-//W3C//DTD HTML 3.2//E
 N"><HTML><p>Join this community for support and resources!</p>\n</HTML>
CREATED;TZID=Europe/Oslo:20190829T142326
URL;VALUE=URI:https://italy.armymwr.com/calendar/event
DTSTART;TZID=Europe/Oslo:20191002T130000
DTEND;TZID=Europe/Oslo:20191002T140000
SEQUENCE:1
END:VEVENT
BEGIN:VEVENT
UID:sabre-vobject-28b7a90e-f422-4dc3-81a1-19ba1bbb8c9f
DTSTAMP:20260422T162611Z
SUMMARY:EFMP Parent Support Group
DESCRIPTION:Join this community for support and resources!\n
X-ALT-DESC:FMTTYPE=text/html:<!DOCTYPE HTML PUBLIC "-//W3C//DTD HTML 3.2//E
 N"><HTML><p>Join this community for support and resources!</p>\n</HTML>
CREATED;TZID=Europe/Oslo:20190829T142326
URL;VALUE=URI:https://italy.armymwr.com/calendar/event
DTSTART;TZID=Europe/Oslo:20191106T130000
DTEND;TZID=Europe/Oslo:20191106T140000
SEQUENCE:2
END:VEVENT
BEGIN:VEVENT
UID:sabre-vobject-afd1b92e-dd12-43d3-ac4c-823743b081d6
DTSTAMP:20260422T162611Z
SUMMARY:EFMP Parent Support Group
DESCRIPTION:Join this community for support and resources!\n
X-ALT-DESC:FMTTYPE=text/html:<!DOCTYPE HTML PUBLIC "-//W3C//DTD HTML 3.2//E
 N"><HTML><p>Join this community for support and resources!</p>\n</HTML>
CREATED;TZID=Europe/Oslo:20190829T142326
URL;VALUE=URI:https://italy.armymwr.com/calendar/event
DTSTART;TZID=Europe/Oslo:20191204T130000
DTEND;TZID=Europe/Oslo:20191204T140000
SEQUENCE:3
END:VEVENT
BEGIN:VEVENT
UID:sabre-vobject-305912f6-e23e-42fe-bd46-b209fefaa3ce
DTSTAMP:20260422T162611Z
SUMMARY:EFMP Parent Support Group
DESCRIPTION:Join this community for support and resources!\n
X-ALT-DESC:FMTTYPE=text/html:<!DOCTYPE HTML PUBLIC "-//W3C//DTD HTML 3.2//E
 N"><HTML><p>Join this community for support and resources!</p>\n</HTML>
CREATED;TZID=Europe/Oslo:20190829T142326
URL;VALUE=URI:https://italy.armymwr.com/calendar/event
DTSTART;TZID=Europe/Oslo:20200205T130000
DTEND;TZID=Europe/Oslo:20200205T140000
SEQUENCE:4
END:VEVENT
BEGIN:VEVENT
UID:sabre-vobject-d32b17d8-50eb-40b0-ad90-d7b11743ae10
DTSTAMP:20260422T162611Z
SUMMARY:EFMP Parent Support Group
DESCRIPTION:Join this community for support and resources!\n
X-ALT-DESC:FMTTYPE=text/html:<!DOCTYPE HTML PUBLIC "-//W3C//DTD HTML 3.2//E
 N"><HTML><p>Join this community for support and resources!</p>\n</HTML>
CREATED;TZID=Europe/Oslo:20190829T142326
URL;VALUE=URI:https://italy.armymwr.com/calendar/event
DTSTART;TZID=Europe/Oslo:20200304T130000
DTEND;TZID=Europe/Oslo:20200304T140000
SEQUENCE:5
END:VEVENT
END:VCALENDAR
