BEGIN:VCALENDAR
VERSION:2.0
PRODID:-//Sabre//Sabre VObject 4.5.8//EN
CALSCALE:GREGORIAN
BEGIN:VEVENT
UID:sabre-vobject-e82da88e-30ea-4e9c-895e-96f78db385e9
DTSTAMP:20260423T142221Z
SUMMARY:Florence: A Guided Tour
DESCRIPTION:Experience the Italian Renaissance in the city of its birth: Fl
 orence!\n
X-ALT-DESC:FMTTYPE=text/html:<!DOCTYPE HTML PUBLIC "-//W3C//DTD HTML 3.2//E
 N"><HTML><p>Experience the Italian Renaissance in the city of its birth: F
 lorence!</p>\n</HTML>
CREATED;TZID=Europe/Oslo:20241202T162507
URL;VALUE=URI:https://italy.armymwr.com/calendar/event
DTSTART;TZID=Europe/Oslo:20250111T053000
DTEND;TZID=Europe/Oslo:20250111T233000
SEQUENCE:0
END:VEVENT
END:VCALENDAR
