BEGIN:VCALENDAR
VERSION:2.0
PRODID:-//Sabre//Sabre VObject 4.5.8//EN
CALSCALE:GREGORIAN
BEGIN:VEVENT
UID:sabre-vobject-f413e682-0130-40b4-9511-292e540c7729
DTSTAMP:20260425T103720Z
SUMMARY:USO Holiday Show!
DESCRIPTION:Enjoy this great\, live show!\n
X-ALT-DESC:FMTTYPE=text/html:<!DOCTYPE HTML PUBLIC "-//W3C//DTD HTML 3.2//E
 N"><HTML><p>Enjoy this great\, live show!</p>\n</HTML>
CREATED;TZID=Europe/Oslo:20241122T110149
URL;VALUE=URI:https://italy.armymwr.com/calendar/event
DTSTART;TZID=Europe/Oslo:20241210T180000
DTEND;TZID=Europe/Oslo:20241210T190000
SEQUENCE:0
END:VEVENT
END:VCALENDAR
