BEGIN:VCALENDAR
VERSION:2.0
PRODID:-//Sabre//Sabre VObject 4.5.8//EN
CALSCALE:GREGORIAN
BEGIN:VEVENT
UID:sabre-vobject-2b4b4574-f45f-46bc-90df-24790b10f141
DTSTAMP:20260426T024055Z
SUMMARY:Classes with Ashley
DESCRIPTION:Learn to paint fromt our very own contractor\, Ashley Hope Jame
 s!\n
X-ALT-DESC:FMTTYPE=text/html:<!DOCTYPE HTML PUBLIC "-//W3C//DTD HTML 3.2//E
 N"><HTML><p>Learn to paint fromt our very own contractor\, Ashley Hope Jam
 es!</p>\n</HTML>
CREATED;TZID=Europe/Oslo:20191028T085712
URL;VALUE=URI:https://italy.armymwr.com/calendar/event
DTSTART;TZID=Europe/Oslo:20191112T110000
DTEND;TZID=Europe/Oslo:20191112T130000
SEQUENCE:0
END:VEVENT
BEGIN:VEVENT
UID:sabre-vobject-cea84b37-dd1a-48f2-b308-f64ff846a4ff
DTSTAMP:20260426T024055Z
SUMMARY:Classes with Ashley
DESCRIPTION:Learn to paint fromt our very own contractor\, Ashley Hope Jame
 s!\n
X-ALT-DESC:FMTTYPE=text/html:<!DOCTYPE HTML PUBLIC "-//W3C//DTD HTML 3.2//E
 N"><HTML><p>Learn to paint fromt our very own contractor\, Ashley Hope Jam
 es!</p>\n</HTML>
CREATED;TZID=Europe/Oslo:20191028T085712
URL;VALUE=URI:https://italy.armymwr.com/calendar/event
DTSTART;TZID=Europe/Oslo:20191203T110000
DTEND;TZID=Europe/Oslo:20191203T130000
SEQUENCE:1
END:VEVENT
BEGIN:VEVENT
UID:sabre-vobject-59a36746-e9bd-467c-aa5e-41dd91c87790
DTSTAMP:20260426T024055Z
SUMMARY:Classes with Ashley
DESCRIPTION:Learn to paint fromt our very own contractor\, Ashley Hope Jame
 s!\n
X-ALT-DESC:FMTTYPE=text/html:<!DOCTYPE HTML PUBLIC "-//W3C//DTD HTML 3.2//E
 N"><HTML><p>Learn to paint fromt our very own contractor\, Ashley Hope Jam
 es!</p>\n</HTML>
CREATED;TZID=Europe/Oslo:20191028T085712
URL;VALUE=URI:https://italy.armymwr.com/calendar/event
DTSTART;TZID=Europe/Oslo:20191130T100000
DTEND;TZID=Europe/Oslo:20191130T120000
SEQUENCE:2
END:VEVENT
BEGIN:VEVENT
UID:sabre-vobject-a8bb4eec-5e53-486a-92a8-29d4fbab357f
DTSTAMP:20260426T024055Z
SUMMARY:Classes with Ashley
DESCRIPTION:Learn to paint fromt our very own contractor\, Ashley Hope Jame
 s!\n
X-ALT-DESC:FMTTYPE=text/html:<!DOCTYPE HTML PUBLIC "-//W3C//DTD HTML 3.2//E
 N"><HTML><p>Learn to paint fromt our very own contractor\, Ashley Hope Jam
 es!</p>\n</HTML>
CREATED;TZID=Europe/Oslo:20191028T085712
URL;VALUE=URI:https://italy.armymwr.com/calendar/event
DTSTART;TZID=Europe/Oslo:20191221T100000
DTEND;TZID=Europe/Oslo:20191221T120000
SEQUENCE:3
END:VEVENT
BEGIN:VEVENT
UID:sabre-vobject-290bd583-babc-4a18-8d66-a7692c48a538
DTSTAMP:20260426T024055Z
SUMMARY:Classes with Ashley
DESCRIPTION:Learn to paint fromt our very own contractor\, Ashley Hope Jame
 s!\n
X-ALT-DESC:FMTTYPE=text/html:<!DOCTYPE HTML PUBLIC "-//W3C//DTD HTML 3.2//E
 N"><HTML><p>Learn to paint fromt our very own contractor\, Ashley Hope Jam
 es!</p>\n</HTML>
CREATED;TZID=Europe/Oslo:20191028T085712
URL;VALUE=URI:https://italy.armymwr.com/calendar/event
DTSTART;TZID=Europe/Oslo:20191122T180000
DTEND;TZID=Europe/Oslo:20191122T200000
SEQUENCE:4
END:VEVENT
BEGIN:VEVENT
UID:sabre-vobject-4c0b44eb-2c16-4ff3-9000-3d29b61a8e35
DTSTAMP:20260426T024055Z
SUMMARY:Classes with Ashley
DESCRIPTION:Learn to paint fromt our very own contractor\, Ashley Hope Jame
 s!\n
X-ALT-DESC:FMTTYPE=text/html:<!DOCTYPE HTML PUBLIC "-//W3C//DTD HTML 3.2//E
 N"><HTML><p>Learn to paint fromt our very own contractor\, Ashley Hope Jam
 es!</p>\n</HTML>
CREATED;TZID=Europe/Oslo:20191028T085712
URL;VALUE=URI:https://italy.armymwr.com/calendar/event
DTSTART;TZID=Europe/Oslo:20191219T180000
DTEND;TZID=Europe/Oslo:20191219T193000
SEQUENCE:5
END:VEVENT
END:VCALENDAR
