BEGIN:VCALENDAR
VERSION:2.0
PRODID:-//Sabre//Sabre VObject 4.5.8//EN
CALSCALE:GREGORIAN
BEGIN:VEVENT
UID:sabre-vobject-064c951d-a493-4c7a-bd06-1cadbde15de3
DTSTAMP:20260425T025904Z
SUMMARY:Family Game & Puzzle Night
DESCRIPTION:Come relax after the holidays\, play a board game or work on a 
 puzzle at the Library!\n
X-ALT-DESC:FMTTYPE=text/html:<!DOCTYPE HTML PUBLIC "-//W3C//DTD HTML 3.2//E
 N"><HTML><p>Come relax after the holidays\, play a board game or work on a
  puzzle at the Library!</p>\n</HTML>
CREATED;TZID=Europe/Oslo:20191105T142038
URL;VALUE=URI:https://italy.armymwr.com/calendar/event
DTSTART;TZID=Europe/Oslo:20200113T170000
DTEND;TZID=Europe/Oslo:20200113T190000
SEQUENCE:0
END:VEVENT
END:VCALENDAR
