BEGIN:VCALENDAR
VERSION:2.0
PRODID:-//Sabre//Sabre VObject 4.5.8//EN
CALSCALE:GREGORIAN
BEGIN:VEVENT
UID:sabre-vobject-720de2b6-ca55-4b30-a168-75a016c5a7ce
DTSTAMP:20260422T195551Z
SUMMARY:SAC Unicorn & Leprechaun Dance Party (during Parents' Night Out)
DESCRIPTION:Join SAC&#39\;s dance party during Parents Night Out!\n
X-ALT-DESC:FMTTYPE=text/html:<!DOCTYPE HTML PUBLIC "-//W3C//DTD HTML 3.2//E
 N"><HTML><p>Join SAC&#39\;s dance party during Parents Night Out!</p>\n</H
 TML>
CREATED;TZID=Europe/Oslo:20191212T151200
URL;VALUE=URI:https://italy.armymwr.com/calendar/event
DTSTART;TZID=Europe/Oslo:20200306T183000
DTEND;TZID=Europe/Oslo:20200306T233000
SEQUENCE:0
END:VEVENT
END:VCALENDAR
