BEGIN:VCALENDAR
VERSION:2.0
PRODID:-//Sabre//Sabre VObject 4.5.8//EN
CALSCALE:GREGORIAN
BEGIN:VEVENT
UID:sabre-vobject-e0488e85-454a-40d3-a72b-cc5b357cdf6e
DTSTAMP:20260424T112058Z
SUMMARY:Winter Wonderland Parent & Child Dance
DESCRIPTION:You are cordially invited to the Winter Wonderland Parent and C
 hild Dance!\n
X-ALT-DESC:FMTTYPE=text/html:<!DOCTYPE HTML PUBLIC "-//W3C//DTD HTML 3.2//E
 N"><HTML><p>You are cordially invited to the Winter Wonderland Parent and 
 Child Dance!</p>\n</HTML>
CREATED;TZID=Europe/Oslo:20191217T163415
URL;VALUE=URI:https://italy.armymwr.com/calendar/event
DTSTART;TZID=Europe/Oslo:20200207T183000
DTEND;TZID=Europe/Oslo:20200207T213000
SEQUENCE:0
END:VEVENT
END:VCALENDAR
