BEGIN:VCALENDAR
VERSION:2.0
PRODID:-//Sabre//Sabre VObject 4.5.8//EN
CALSCALE:GREGORIAN
BEGIN:VEVENT
UID:sabre-vobject-f4022fdd-cfef-420d-81bd-23cbb1d1e8f4
DTSTAMP:20260424T234835Z
SUMMARY:BGCA Art Contest Display
DESCRIPTION:Support local youth artists!&nbsp\;\n
X-ALT-DESC:FMTTYPE=text/html:<!DOCTYPE HTML PUBLIC "-//W3C//DTD HTML 3.2//E
 N"><HTML><p>Support local youth artists!&nbsp\;</p>\n</HTML>
CREATED;TZID=Europe/Oslo:20200115T120426
URL;VALUE=URI:https://italy.armymwr.com/calendar/event
DTSTART;TZID=Europe/Oslo:20200106T000000
DTEND;TZID=Europe/Oslo:20200130T235959
SEQUENCE:0
END:VEVENT
END:VCALENDAR
