BEGIN:VCALENDAR
VERSION:2.0
PRODID:-//Sabre//Sabre VObject 4.5.8//EN
CALSCALE:GREGORIAN
BEGIN:VEVENT
UID:sabre-vobject-4c27cbba-f6a6-481b-a669-2a2007e58d11
DTSTAMP:20260421T142740Z
SUMMARY:SAC No School Day: Spring Break
DESCRIPTION:No school?&nbsp\; No problem!&nbsp\; Join SAC for spring break!
 \n
X-ALT-DESC:FMTTYPE=text/html:<!DOCTYPE HTML PUBLIC "-//W3C//DTD HTML 3.2//E
 N"><HTML><p>No school?&nbsp\; No problem!&nbsp\; Join SAC for spring break
 !</p>\n</HTML>
CREATED;TZID=Europe/Oslo:20200109T103212
URL;VALUE=URI:https://italy.armymwr.com/calendar/event
DTSTART;TZID=Europe/Oslo:20200406T130000
DTEND;TZID=Europe/Oslo:20200406T140000
SEQUENCE:0
END:VEVENT
END:VCALENDAR
