BEGIN:VCALENDAR
VERSION:2.0
PRODID:-//Sabre//Sabre VObject 4.5.8//EN
CALSCALE:GREGORIAN
BEGIN:VEVENT
UID:sabre-vobject-e956a39b-5be0-4bde-87cd-b78504555fa5
DTSTAMP:20260424T065147Z
SUMMARY:Darby Tuscan Tots Playgroup
DESCRIPTION:Join us for playtime and socialization for Parents &#39\;N&#39\
 ; Tots!\n
X-ALT-DESC:FMTTYPE=text/html:<!DOCTYPE HTML PUBLIC "-//W3C//DTD HTML 3.2//E
 N"><HTML><p>Join us for playtime and socialization for Parents &#39\;N&#39
 \; Tots!</p>\n</HTML>
CREATED;TZID=Europe/Oslo:20200122T140536
URL;VALUE=URI:https://italy.armymwr.com/calendar/event
DTSTART;TZID=Europe/Oslo:20200122T103000
DTEND;TZID=Europe/Oslo:20200122T120000
SEQUENCE:0
END:VEVENT
END:VCALENDAR
