BEGIN:VCALENDAR
VERSION:2.0
PRODID:-//Sabre//Sabre VObject 4.5.8//EN
CALSCALE:GREGORIAN
BEGIN:VEVENT
UID:sabre-vobject-61547937-002a-479d-87b2-c50182ebdc90
DTSTAMP:20260422T071237Z
SUMMARY:Watercolor Classes with Ashley
DESCRIPTION:Join in on this creative series!\n
X-ALT-DESC:FMTTYPE=text/html:<!DOCTYPE HTML PUBLIC "-//W3C//DTD HTML 3.2//E
 N"><HTML><p>Join in on this creative series!</p>\n</HTML>
CREATED;TZID=Europe/Oslo:20200123T093650
URL;VALUE=URI:https://italy.armymwr.com/calendar/event
DTSTART;TZID=Europe/Oslo:20200211T110000
DTEND;TZID=Europe/Oslo:20200211T130000
SEQUENCE:0
END:VEVENT
BEGIN:VEVENT
UID:sabre-vobject-de8d305a-c6af-4351-aa87-532fa09add60
DTSTAMP:20260422T071237Z
SUMMARY:Watercolor Classes with Ashley
DESCRIPTION:Join in on this creative series!\n
X-ALT-DESC:FMTTYPE=text/html:<!DOCTYPE HTML PUBLIC "-//W3C//DTD HTML 3.2//E
 N"><HTML><p>Join in on this creative series!</p>\n</HTML>
CREATED;TZID=Europe/Oslo:20200123T093650
URL;VALUE=URI:https://italy.armymwr.com/calendar/event
DTSTART;TZID=Europe/Oslo:20200218T110000
DTEND;TZID=Europe/Oslo:20200218T130000
SEQUENCE:1
END:VEVENT
BEGIN:VEVENT
UID:sabre-vobject-17706464-b57f-425f-9ba3-43322ab05fa9
DTSTAMP:20260422T071237Z
SUMMARY:Watercolor Classes with Ashley
DESCRIPTION:Join in on this creative series!\n
X-ALT-DESC:FMTTYPE=text/html:<!DOCTYPE HTML PUBLIC "-//W3C//DTD HTML 3.2//E
 N"><HTML><p>Join in on this creative series!</p>\n</HTML>
CREATED;TZID=Europe/Oslo:20200123T093650
URL;VALUE=URI:https://italy.armymwr.com/calendar/event
DTSTART;TZID=Europe/Oslo:20200225T110000
DTEND;TZID=Europe/Oslo:20200225T130000
SEQUENCE:2
END:VEVENT
BEGIN:VEVENT
UID:sabre-vobject-47b34634-7187-4baf-a517-14975a4a816b
DTSTAMP:20260422T071237Z
SUMMARY:Watercolor Classes with Ashley
DESCRIPTION:Join in on this creative series!\n
X-ALT-DESC:FMTTYPE=text/html:<!DOCTYPE HTML PUBLIC "-//W3C//DTD HTML 3.2//E
 N"><HTML><p>Join in on this creative series!</p>\n</HTML>
CREATED;TZID=Europe/Oslo:20200123T093650
URL;VALUE=URI:https://italy.armymwr.com/calendar/event
DTSTART;TZID=Europe/Oslo:20200310T110000
DTEND;TZID=Europe/Oslo:20200310T130000
SEQUENCE:3
END:VEVENT
BEGIN:VEVENT
UID:sabre-vobject-25fa19b6-8855-44d6-a707-ec410afc6eb5
DTSTAMP:20260422T071237Z
SUMMARY:Watercolor Classes with Ashley
DESCRIPTION:Join in on this creative series!\n
X-ALT-DESC:FMTTYPE=text/html:<!DOCTYPE HTML PUBLIC "-//W3C//DTD HTML 3.2//E
 N"><HTML><p>Join in on this creative series!</p>\n</HTML>
CREATED;TZID=Europe/Oslo:20200123T093650
URL;VALUE=URI:https://italy.armymwr.com/calendar/event
DTSTART;TZID=Europe/Oslo:20200317T110000
DTEND;TZID=Europe/Oslo:20200317T130000
SEQUENCE:4
END:VEVENT
BEGIN:VEVENT
UID:sabre-vobject-62193660-14b4-416c-91d7-9a129ebf9005
DTSTAMP:20260422T071237Z
SUMMARY:Watercolor Classes with Ashley
DESCRIPTION:Join in on this creative series!\n
X-ALT-DESC:FMTTYPE=text/html:<!DOCTYPE HTML PUBLIC "-//W3C//DTD HTML 3.2//E
 N"><HTML><p>Join in on this creative series!</p>\n</HTML>
CREATED;TZID=Europe/Oslo:20200123T093650
URL;VALUE=URI:https://italy.armymwr.com/calendar/event
DTSTART;TZID=Europe/Oslo:20200324T110000
DTEND;TZID=Europe/Oslo:20200324T130000
SEQUENCE:5
END:VEVENT
BEGIN:VEVENT
UID:sabre-vobject-b2f57891-003a-4fae-b933-a5af18218c68
DTSTAMP:20260422T071237Z
SUMMARY:Watercolor Classes with Ashley
DESCRIPTION:Join in on this creative series!\n
X-ALT-DESC:FMTTYPE=text/html:<!DOCTYPE HTML PUBLIC "-//W3C//DTD HTML 3.2//E
 N"><HTML><p>Join in on this creative series!</p>\n</HTML>
CREATED;TZID=Europe/Oslo:20200123T093650
URL;VALUE=URI:https://italy.armymwr.com/calendar/event
DTSTART;TZID=Europe/Oslo:20200213T183000
DTEND;TZID=Europe/Oslo:20200213T203000
SEQUENCE:6
END:VEVENT
END:VCALENDAR
