BEGIN:VCALENDAR
VERSION:2.0
PRODID:-//Sabre//Sabre VObject 4.5.8//EN
CALSCALE:GREGORIAN
BEGIN:VEVENT
UID:sabre-vobject-c613b4e3-ee0c-4523-9289-261599f52ac2
DTSTAMP:20260422T133352Z
SUMMARY:Darby Pisa Ship Museum
DESCRIPTION:See Pisa like never before!\n
X-ALT-DESC:FMTTYPE=text/html:<!DOCTYPE HTML PUBLIC "-//W3C//DTD HTML 3.2//E
 N"><HTML><p>See Pisa like never before!</p>\n</HTML>
CREATED;TZID=Europe/Oslo:20200127T163908
URL;VALUE=URI:https://italy.armymwr.com/calendar/event
DTSTART;TZID=Europe/Oslo:20200313T130000
DTEND;TZID=Europe/Oslo:20200313T173000
SEQUENCE:0
END:VEVENT
END:VCALENDAR
