BEGIN:VCALENDAR
VERSION:2.0
PRODID:-//Sabre//Sabre VObject 4.5.8//EN
CALSCALE:GREGORIAN
BEGIN:VEVENT
UID:sabre-vobject-ba264b71-2097-427c-9850-138368269ad2
DTSTAMP:20260423T063833Z
SUMMARY:Intramural Volleyball Registration
DESCRIPTION:Sign up for this awesome season!\n
X-ALT-DESC:FMTTYPE=text/html:<!DOCTYPE HTML PUBLIC "-//W3C//DTD HTML 3.2//E
 N"><HTML><p>Sign up for this awesome season!</p>\n</HTML>
CREATED;TZID=Europe/Oslo:20241122T162339
URL;VALUE=URI:https://italy.armymwr.com/calendar/event
DTSTART;TZID=Europe/Oslo:20250120T000000
DTEND;TZID=Europe/Oslo:20250206T235959
SEQUENCE:0
END:VEVENT
END:VCALENDAR
