BEGIN:VCALENDAR
VERSION:2.0
PRODID:-//Sabre//Sabre VObject 4.5.8//EN
CALSCALE:GREGORIAN
BEGIN:VEVENT
UID:sabre-vobject-4a35c0e3-613b-4298-bf87-0d952efd895e
DTSTAMP:20260422T102211Z
SUMMARY:Darby Rome Trip
DESCRIPTION:Enjoy the most popular attractions of Rome\, the Eternal City!\
 n
X-ALT-DESC:FMTTYPE=text/html:<!DOCTYPE HTML PUBLIC "-//W3C//DTD HTML 3.2//E
 N"><HTML><p>Enjoy the most popular attractions of Rome\, the Eternal City!
 </p>\n</HTML>
CREATED;TZID=Europe/Oslo:20200226T110022
URL;VALUE=URI:https://italy.armymwr.com/calendar/event
DTSTART;TZID=Europe/Oslo:20200321T050000
DTEND;TZID=Europe/Oslo:20200321T220000
SEQUENCE:0
END:VEVENT
END:VCALENDAR
