BEGIN:VCALENDAR
VERSION:2.0
PRODID:-//Sabre//Sabre VObject 4.5.8//EN
CALSCALE:GREGORIAN
BEGIN:VEVENT
UID:sabre-vobject-f14267a1-e07b-466b-9699-26c33297a474
DTSTAMP:20260422T152127Z
SUMMARY:Darby Track & Field Clinic
DESCRIPTION:Ready\, set\, go!\n
X-ALT-DESC:FMTTYPE=text/html:<!DOCTYPE HTML PUBLIC "-//W3C//DTD HTML 3.2//E
 N"><HTML><p>Ready\, set\, go!</p>\n</HTML>
CREATED;TZID=Europe/Oslo:20200304T133717
URL;VALUE=URI:https://italy.armymwr.com/calendar/event
DTSTART;TZID=Europe/Oslo:20200311T170000
DTEND;TZID=Europe/Oslo:20200311T180000
SEQUENCE:0
END:VEVENT
END:VCALENDAR
