BEGIN:VCALENDAR
VERSION:2.0
PRODID:-//Sabre//Sabre VObject 4.5.8//EN
CALSCALE:GREGORIAN
BEGIN:VEVENT
UID:sabre-vobject-96451fa6-34cf-4ced-b983-91371916b221
DTSTAMP:20260419T183932Z
SUMMARY:Lake Braies & Dobbiaco
DESCRIPTION:Head up to this famous\, one-of-a-kind lake with Outdoor Rec!\n
X-ALT-DESC:FMTTYPE=text/html:<!DOCTYPE HTML PUBLIC "-//W3C//DTD HTML 3.2//E
 N"><HTML><p>Head up to this famous\, one-of-a-kind lake with Outdoor Rec!<
 /p>\n</HTML>
CREATED;TZID=Europe/Oslo:20260324T163102
URL;VALUE=URI:https://italy.armymwr.com/calendar/event
DTSTART;TZID=Europe/Oslo:20260627T053000
DTEND;TZID=Europe/Oslo:20260627T213000
SEQUENCE:0
END:VEVENT
END:VCALENDAR
