BEGIN:VCALENDAR
VERSION:2.0
PRODID:-//Sabre//Sabre VObject 4.5.8//EN
CALSCALE:GREGORIAN
BEGIN:VEVENT
UID:sabre-vobject-35da5a97-2f21-4330-8c43-d2495aa2ac4d
DTSTAMP:20260420T030012Z
SUMMARY:CYS Recruitment Fair -  Vicenza
DESCRIPTION:Start your CYS career today!\n
X-ALT-DESC:FMTTYPE=text/html:<!DOCTYPE HTML PUBLIC "-//W3C//DTD HTML 3.2//E
 N"><HTML><p>Start your CYS career today!</p>\n</HTML>
CREATED;TZID=Europe/Oslo:20220907T192711
URL;VALUE=URI:https://italy.armymwr.com/calendar/event
DTSTART;TZID=Europe/Oslo:20220913T110000
DTEND;TZID=Europe/Oslo:20220913T130000
SEQUENCE:0
END:VEVENT
END:VCALENDAR
