BEGIN:VCALENDAR
VERSION:2.0
PRODID:-//Sabre//Sabre VObject 4.5.8//EN
CALSCALE:GREGORIAN
BEGIN:VEVENT
UID:sabre-vobject-3253acc8-8bf7-4570-820c-1715409183a2
DTSTAMP:20260425T025903Z
SUMMARY:Christmas Market: Bolzano & Merano
DESCRIPTION:Join us for this traditional Christmas market in Bolzano!\n
X-ALT-DESC:FMTTYPE=text/html:<!DOCTYPE HTML PUBLIC "-//W3C//DTD HTML 3.2//E
 N"><HTML><p>Join us for this traditional Christmas market in Bolzano!</p>\
 n</HTML>
CREATED;TZID=Europe/Oslo:20241030T120434
URL;VALUE=URI:https://italy.armymwr.com/calendar/event
DTSTART;TZID=Europe/Oslo:20241214T063000
DTEND;TZID=Europe/Oslo:20241214T213000
SEQUENCE:0
END:VEVENT
END:VCALENDAR
