BEGIN:VCALENDAR
VERSION:2.0
PRODID:-//Sabre//Sabre VObject 4.5.8//EN
CALSCALE:GREGORIAN
BEGIN:VEVENT
UID:sabre-vobject-b1eacdc8-9ba8-4e23-8466-8f068f4b5971
DTSTAMP:20260425T025902Z
SUMMARY:Christmas Market: Salzburg\, Austria
DESCRIPTION:Head to this gorgeous city for an amazing Christmas market!\n
X-ALT-DESC:FMTTYPE=text/html:<!DOCTYPE HTML PUBLIC "-//W3C//DTD HTML 3.2//E
 N"><HTML><p>Head to this gorgeous city for an amazing Christmas market!</p
 >\n</HTML>
CREATED;TZID=Europe/Oslo:20241017T125803
URL;VALUE=URI:https://italy.armymwr.com/calendar/event
DTSTART;TZID=Europe/Oslo:20241221T023000
DTEND;TZID=Europe/Oslo:20241221T033000
SEQUENCE:0
END:VEVENT
END:VCALENDAR
