BEGIN:VCALENDAR
VERSION:2.0
PRODID:-//Sabre//Sabre VObject 4.5.8//EN
CALSCALE:GREGORIAN
BEGIN:VEVENT
UID:sabre-vobject-e33af68a-f6e3-4c33-9f33-5c337b82e9bc
DTSTAMP:20260425T022902Z
SUMMARY:Bologna for New Year's Eve
DESCRIPTION:Ring in the New Year in amazing Bologna!\n
X-ALT-DESC:FMTTYPE=text/html:<!DOCTYPE HTML PUBLIC "-//W3C//DTD HTML 3.2//E
 N"><HTML><p>Ring in the New Year in amazing Bologna!</p>\n</HTML>
CREATED;TZID=Europe/Oslo:20241101T151126
URL;VALUE=URI:https://italy.armymwr.com/calendar/event
DTSTART;TZID=Europe/Oslo:20241231T160000
DTEND;TZID=Europe/Oslo:20241231T170000
SEQUENCE:0
END:VEVENT
END:VCALENDAR
