BEGIN:VCALENDAR
VERSION:2.0
PRODID:-//Sabre//Sabre VObject 4.5.8//EN
CALSCALE:GREGORIAN
BEGIN:VEVENT
UID:sabre-vobject-ba13be74-eaed-4d6e-ad5b-ff484c75e2b8
DTSTAMP:20260423T063834Z
SUMMARY:Bernina Express & Winter Wonderland Walk
DESCRIPTION:Take a ride with us through the Swiss Alps!\n
X-ALT-DESC:FMTTYPE=text/html:<!DOCTYPE HTML PUBLIC "-//W3C//DTD HTML 3.2//E
 N"><HTML><p>Take a ride with us through the Swiss Alps!</p>\n</HTML>
CREATED;TZID=Europe/Oslo:20241213T102534
URL;VALUE=URI:https://italy.armymwr.com/calendar/event
DTSTART;TZID=Europe/Oslo:20250125T050000
DTEND;TZID=Europe/Oslo:20250125T230000
SEQUENCE:0
END:VEVENT
END:VCALENDAR
