BEGIN:VCALENDAR
VERSION:2.0
PRODID:-//Sabre//Sabre VObject 4.5.8//EN
CALSCALE:GREGORIAN
BEGIN:VEVENT
UID:sabre-vobject-2803a56d-6297-4ad6-a05b-f41fdc5707b3
DTSTAMP:20260422T111431Z
SUMMARY:Arrigo Martelli in Concert
DESCRIPTION:Guitar maestro Arrigo Martelli takes us back to the good ol&rsq
 uo\; days!\n
X-ALT-DESC:FMTTYPE=text/html:<!DOCTYPE HTML PUBLIC "-//W3C//DTD HTML 3.2//E
 N"><HTML><p>Guitar maestro Arrigo Martelli takes us back to the good ol&rs
 quo\; days!</p>\n</HTML>
CREATED;TZID=Europe/Oslo:20250121T161844
URL;VALUE=URI:https://italy.armymwr.com/calendar/event
DTSTART;TZID=Europe/Oslo:20250131T193000
DTEND;TZID=Europe/Oslo:20250131T220000
SEQUENCE:0
END:VEVENT
END:VCALENDAR
