BEGIN:VCALENDAR
VERSION:2.0
PRODID:-//Sabre//Sabre VObject 4.5.8//EN
CALSCALE:GREGORIAN
BEGIN:VEVENT
UID:sabre-vobject-8463e95b-30bf-414d-a2f6-240219630ad5
DTSTAMP:20260423T021641Z
SUMMARY:Love Is In The Air: Couples Pampering
DESCRIPTION:Enjoy this massage session specially tailored for two!\n
X-ALT-DESC:FMTTYPE=text/html:<!DOCTYPE HTML PUBLIC "-//W3C//DTD HTML 3.2//E
 N"><HTML><p>Enjoy this massage session specially tailored for two!</p>\n</
 HTML>
CREATED;TZID=Europe/Oslo:20250127T122305
URL;VALUE=URI:https://italy.armymwr.com/calendar/event
DTSTART;TZID=Europe/Oslo:20250201T000000
DTEND;TZID=Europe/Oslo:20250228T235959
SEQUENCE:0
END:VEVENT
END:VCALENDAR
