BEGIN:VCALENDAR
VERSION:2.0
PRODID:-//Sabre//Sabre VObject 4.5.8//EN
CALSCALE:GREGORIAN
BEGIN:VEVENT
UID:sabre-vobject-8e69c799-f5ca-488b-96b8-365ada941c19
DTSTAMP:20260423T191906Z
SUMMARY:2026 Vicenza Fitness Expo
DESCRIPTION:Find out everything you need to know about fitness and wellness
  in the community!\n
X-ALT-DESC:FMTTYPE=text/html:<!DOCTYPE HTML PUBLIC "-//W3C//DTD HTML 3.2//E
 N"><HTML><p>Find out everything you need to know about fitness and wellnes
 s in the community!</p>\n</HTML>
CREATED;TZID=Europe/Oslo:20260128T164003
URL;VALUE=URI:https://italy.armymwr.com/calendar/event
DTSTART;TZID=Europe/Oslo:20260307T090000
DTEND;TZID=Europe/Oslo:20260307T120000
SEQUENCE:0
END:VEVENT
END:VCALENDAR
